BEGIN:VCALENDAR
VERSION:2.0
PRODID:-//The Episcopal Diocese of Northern California - ECPv6.15.16.1//NONSGML v1.0//EN
CALSCALE:GREGORIAN
METHOD:PUBLISH
X-ORIGINAL-URL:https://www.norcalepiscopal.org
X-WR-CALDESC:Events for The Episcopal Diocese of Northern California
REFRESH-INTERVAL;VALUE=DURATION:PT1H
X-Robots-Tag:noindex
X-PUBLISHED-TTL:PT1H
BEGIN:VTIMEZONE
TZID:America/Los_Angeles
BEGIN:DAYLIGHT
TZOFFSETFROM:-0800
TZOFFSETTO:-0700
TZNAME:PDT
DTSTART:20250309T100000
END:DAYLIGHT
BEGIN:STANDARD
TZOFFSETFROM:-0700
TZOFFSETTO:-0800
TZNAME:PST
DTSTART:20251102T090000
END:STANDARD
BEGIN:DAYLIGHT
TZOFFSETFROM:-0800
TZOFFSETTO:-0700
TZNAME:PDT
DTSTART:20260308T100000
END:DAYLIGHT
BEGIN:STANDARD
TZOFFSETFROM:-0700
TZOFFSETTO:-0800
TZNAME:PST
DTSTART:20261101T090000
END:STANDARD
BEGIN:DAYLIGHT
TZOFFSETFROM:-0800
TZOFFSETTO:-0700
TZNAME:PDT
DTSTART:20270314T100000
END:DAYLIGHT
BEGIN:STANDARD
TZOFFSETFROM:-0700
TZOFFSETTO:-0800
TZNAME:PST
DTSTART:20271107T090000
END:STANDARD
END:VTIMEZONE
BEGIN:VEVENT
DTSTART;TZID=America/Los_Angeles:20260510T150000
DTEND;TZID=America/Los_Angeles:20260510T161500
DTSTAMP:20260419T121053
CREATED:20260417T225429Z
LAST-MODIFIED:20260417T225531Z
UID:10000895-1778425200-1778429700@www.norcalepiscopal.org
SUMMARY:St. Luke's Spring Bloom Concert
DESCRIPTION:Join us on Sunday\, May 10 at 3 p.m. for our Spring Bloom Concert featuring Francesca Anderson\, Flute\, and Dr. Bev Wesner-Hoehn\, Harp\, assisted by The Chamber Strings featuring John Rutter’s Suite Antique. \nTickets available in advance (see link) or at the door.
URL:https://www.norcalepiscopal.org/event/25040/
LOCATION:St. Luke’s\, Woodland\, 515 2nd St\, Woodland\, CA\, 95695
ORGANIZER;CN="The Rev. Krista Heuett":MAILTO:rector@stlukeswoodland.org
END:VEVENT
END:VCALENDAR