BEGIN:VCALENDAR
VERSION:2.0
PRODID:-//The Episcopal Diocese of Northern California - ECPv6.15.16.1//NONSGML v1.0//EN
CALSCALE:GREGORIAN
METHOD:PUBLISH
X-ORIGINAL-URL:https://www.norcalepiscopal.org
X-WR-CALDESC:Events for The Episcopal Diocese of Northern California
REFRESH-INTERVAL;VALUE=DURATION:PT1H
X-Robots-Tag:noindex
X-PUBLISHED-TTL:PT1H
BEGIN:VTIMEZONE
TZID:America/Detroit
BEGIN:DAYLIGHT
TZOFFSETFROM:-0500
TZOFFSETTO:-0400
TZNAME:EDT
DTSTART:20200308T070000
END:DAYLIGHT
BEGIN:STANDARD
TZOFFSETFROM:-0400
TZOFFSETTO:-0500
TZNAME:EST
DTSTART:20201101T060000
END:STANDARD
BEGIN:DAYLIGHT
TZOFFSETFROM:-0500
TZOFFSETTO:-0400
TZNAME:EDT
DTSTART:20210314T070000
END:DAYLIGHT
BEGIN:STANDARD
TZOFFSETFROM:-0400
TZOFFSETTO:-0500
TZNAME:EST
DTSTART:20211107T060000
END:STANDARD
BEGIN:DAYLIGHT
TZOFFSETFROM:-0500
TZOFFSETTO:-0400
TZNAME:EDT
DTSTART:20220313T070000
END:DAYLIGHT
BEGIN:STANDARD
TZOFFSETFROM:-0400
TZOFFSETTO:-0500
TZNAME:EST
DTSTART:20221106T060000
END:STANDARD
END:VTIMEZONE
BEGIN:VEVENT
DTSTART;TZID=America/Detroit:20210807T100000
DTEND;TZID=America/Detroit:20210807T133000
DTSTAMP:20260425T061403
CREATED:20210522T002635Z
LAST-MODIFIED:20210522T004037Z
UID:10000222-1628330400-1628343000@www.norcalepiscopal.org
SUMMARY:River City Food Bank Open
DESCRIPTION:
URL:https://www.norcalepiscopal.org/event/river-city-food-bank-open/2021-08-07/
LOCATION:River City Food Bank\, 2300 Edison Ave.\, Sacramento\, CA\, 95821
END:VEVENT
BEGIN:VEVENT
DTSTART;VALUE=DATE:20210808
DTEND;VALUE=DATE:20210809
DTSTAMP:20260425T061403
CREATED:20210524T231130Z
LAST-MODIFIED:20210623T190550Z
UID:10000334-1628380800-1628467199@www.norcalepiscopal.org
SUMMARY:Bishop's Visitation - St. Brigid's\, Rio Vista
DESCRIPTION:
URL:https://www.norcalepiscopal.org/event/bishops-visitation-st-brigids-rio-vista/
LOCATION:St. Brigid’s Episcopal Church\, 218 California St\, Rio Vista\, CA\, 94571
END:VEVENT
BEGIN:VEVENT
DTSTART;VALUE=DATE:20210808
DTEND;VALUE=DATE:20210809
DTSTAMP:20260425T061403
CREATED:20210703T000336Z
LAST-MODIFIED:20210703T000336Z
UID:10000345-1628380800-1628467199@www.norcalepiscopal.org
SUMMARY:Bishop's Visitation\, St. Brigid's\, Rio Vista
DESCRIPTION:
URL:https://www.norcalepiscopal.org/event/bishops-visitation-st-brigids-rio-vista-2/
END:VEVENT
BEGIN:VEVENT
DTSTART;TZID=America/Detroit:20210814T100000
DTEND;TZID=America/Detroit:20210814T133000
DTSTAMP:20260425T061403
CREATED:20210522T002635Z
LAST-MODIFIED:20210522T004037Z
UID:10000223-1628935200-1628947800@www.norcalepiscopal.org
SUMMARY:River City Food Bank Open
DESCRIPTION:
URL:https://www.norcalepiscopal.org/event/river-city-food-bank-open/2021-08-14/
LOCATION:River City Food Bank\, 2300 Edison Ave.\, Sacramento\, CA\, 95821
END:VEVENT
BEGIN:VEVENT
DTSTART;TZID=America/Detroit:20210821T100000
DTEND;TZID=America/Detroit:20210821T133000
DTSTAMP:20260425T061403
CREATED:20210522T002635Z
LAST-MODIFIED:20210522T004037Z
UID:10000224-1629540000-1629552600@www.norcalepiscopal.org
SUMMARY:River City Food Bank Open
DESCRIPTION:
URL:https://www.norcalepiscopal.org/event/river-city-food-bank-open/2021-08-21/
LOCATION:River City Food Bank\, 2300 Edison Ave.\, Sacramento\, CA\, 95821
END:VEVENT
BEGIN:VEVENT
DTSTART;TZID=America/Detroit:20210827T103000
DTEND;TZID=America/Detroit:20210827T133000
DTSTAMP:20260425T061403
CREATED:20210522T003433Z
LAST-MODIFIED:20210522T003807Z
UID:10000246-1630060200-1630071000@www.norcalepiscopal.org
SUMMARY:River City Food Bank Open
DESCRIPTION:
URL:https://www.norcalepiscopal.org/event/bishops-visitation/2021-08-27/
LOCATION:River City Food Bank\, 2300 Edison Ave.\, Sacramento\, CA\, 95821
END:VEVENT
BEGIN:VEVENT
DTSTART;TZID=America/Detroit:20210828T100000
DTEND;TZID=America/Detroit:20210828T133000
DTSTAMP:20260425T061403
CREATED:20210522T002635Z
LAST-MODIFIED:20210522T004037Z
UID:10000225-1630144800-1630157400@www.norcalepiscopal.org
SUMMARY:River City Food Bank Open
DESCRIPTION:
URL:https://www.norcalepiscopal.org/event/river-city-food-bank-open/2021-08-28/
LOCATION:River City Food Bank\, 2300 Edison Ave.\, Sacramento\, CA\, 95821
END:VEVENT
END:VCALENDAR