BEGIN:VCALENDAR
VERSION:2.0
PRODID:-//The Episcopal Diocese of Northern California - ECPv6.15.16.1//NONSGML v1.0//EN
CALSCALE:GREGORIAN
METHOD:PUBLISH
X-ORIGINAL-URL:https://www.norcalepiscopal.org
X-WR-CALDESC:Events for The Episcopal Diocese of Northern California
REFRESH-INTERVAL;VALUE=DURATION:PT1H
X-Robots-Tag:noindex
X-PUBLISHED-TTL:PT1H
BEGIN:VTIMEZONE
TZID:America/Detroit
BEGIN:DAYLIGHT
TZOFFSETFROM:-0500
TZOFFSETTO:-0400
TZNAME:EDT
DTSTART:20200308T070000
END:DAYLIGHT
BEGIN:STANDARD
TZOFFSETFROM:-0400
TZOFFSETTO:-0500
TZNAME:EST
DTSTART:20201101T060000
END:STANDARD
BEGIN:DAYLIGHT
TZOFFSETFROM:-0500
TZOFFSETTO:-0400
TZNAME:EDT
DTSTART:20210314T070000
END:DAYLIGHT
BEGIN:STANDARD
TZOFFSETFROM:-0400
TZOFFSETTO:-0500
TZNAME:EST
DTSTART:20211107T060000
END:STANDARD
BEGIN:DAYLIGHT
TZOFFSETFROM:-0500
TZOFFSETTO:-0400
TZNAME:EDT
DTSTART:20220313T070000
END:DAYLIGHT
BEGIN:STANDARD
TZOFFSETFROM:-0400
TZOFFSETTO:-0500
TZNAME:EST
DTSTART:20221106T060000
END:STANDARD
END:VTIMEZONE
BEGIN:VTIMEZONE
TZID:America/Los_Angeles
BEGIN:DAYLIGHT
TZOFFSETFROM:-0800
TZOFFSETTO:-0700
TZNAME:PDT
DTSTART:20200308T100000
END:DAYLIGHT
BEGIN:STANDARD
TZOFFSETFROM:-0700
TZOFFSETTO:-0800
TZNAME:PST
DTSTART:20201101T090000
END:STANDARD
BEGIN:DAYLIGHT
TZOFFSETFROM:-0800
TZOFFSETTO:-0700
TZNAME:PDT
DTSTART:20210314T100000
END:DAYLIGHT
BEGIN:STANDARD
TZOFFSETFROM:-0700
TZOFFSETTO:-0800
TZNAME:PST
DTSTART:20211107T090000
END:STANDARD
BEGIN:DAYLIGHT
TZOFFSETFROM:-0800
TZOFFSETTO:-0700
TZNAME:PDT
DTSTART:20220313T100000
END:DAYLIGHT
BEGIN:STANDARD
TZOFFSETFROM:-0700
TZOFFSETTO:-0800
TZNAME:PST
DTSTART:20221106T090000
END:STANDARD
END:VTIMEZONE
BEGIN:VEVENT
DTSTART;TZID=America/Detroit:20211002T090000
DTEND;TZID=America/Detroit:20211002T123000
DTSTAMP:20260423T220952
CREATED:20210803T015953Z
LAST-MODIFIED:20210803T015953Z
UID:10000257-1633165200-1633177800@www.norcalepiscopal.org
SUMMARY:Day of Discernment - 10/2/2021
DESCRIPTION:Interested in the Priesthood? The diaconate? Holy Orders? or just want to learn more about how to become licensed as a preacher? \nDay of Discernment is for you! \nRegistration is now open\, zoom information coming soon. \nTo register\, click here
URL:https://www.norcalepiscopal.org/event/day-of-discernment-10-2-2021/
END:VEVENT
BEGIN:VEVENT
DTSTART;TZID=America/Detroit:20211002T090000
DTEND;TZID=America/Detroit:20211002T130000
DTSTAMP:20260423T220952
CREATED:20210729T181546Z
LAST-MODIFIED:20210729T181546Z
UID:10000256-1633165200-1633179600@www.norcalepiscopal.org
SUMMARY:Day of Discernment
DESCRIPTION:Day of Discernment \nFurther information coming soon!
URL:https://www.norcalepiscopal.org/event/day-of-discernment-2/
END:VEVENT
BEGIN:VEVENT
DTSTART;TZID=America/Detroit:20211002T100000
DTEND;TZID=America/Detroit:20211002T133000
DTSTAMP:20260423T220952
CREATED:20210522T002635Z
LAST-MODIFIED:20210522T004037Z
UID:10000230-1633168800-1633181400@www.norcalepiscopal.org
SUMMARY:River City Food Bank Open
DESCRIPTION:
URL:https://www.norcalepiscopal.org/event/river-city-food-bank-open/2021-10-02/
LOCATION:River City Food Bank\, 2300 Edison Ave.\, Sacramento\, CA\, 95821
END:VEVENT
BEGIN:VEVENT
DTSTART;TZID=America/Detroit:20211009T100000
DTEND;TZID=America/Detroit:20211009T133000
DTSTAMP:20260423T220952
CREATED:20210522T002635Z
LAST-MODIFIED:20210522T004037Z
UID:10000231-1633773600-1633786200@www.norcalepiscopal.org
SUMMARY:River City Food Bank Open
DESCRIPTION:
URL:https://www.norcalepiscopal.org/event/river-city-food-bank-open/2021-10-09/
LOCATION:River City Food Bank\, 2300 Edison Ave.\, Sacramento\, CA\, 95821
END:VEVENT
BEGIN:VEVENT
DTSTART;VALUE=DATE:20211015
DTEND;VALUE=DATE:20211017
DTSTAMP:20260423T220952
CREATED:20210522T004627Z
LAST-MODIFIED:20210928T184822Z
UID:10000251-1634256000-1634428799@www.norcalepiscopal.org
SUMMARY:Best Skills\, Session 2
DESCRIPTION:
URL:https://www.norcalepiscopal.org/event/best-skills-session-2/
END:VEVENT
BEGIN:VEVENT
DTSTART;TZID=America/Detroit:20211016T100000
DTEND;TZID=America/Detroit:20211016T133000
DTSTAMP:20260423T220952
CREATED:20210522T002635Z
LAST-MODIFIED:20210522T004037Z
UID:10000232-1634378400-1634391000@www.norcalepiscopal.org
SUMMARY:River City Food Bank Open
DESCRIPTION:
URL:https://www.norcalepiscopal.org/event/river-city-food-bank-open/2021-10-16/
LOCATION:River City Food Bank\, 2300 Edison Ave.\, Sacramento\, CA\, 95821
END:VEVENT
BEGIN:VEVENT
DTSTART;TZID=America/Detroit:20211022T103000
DTEND;TZID=America/Detroit:20211022T133000
DTSTAMP:20260423T220952
CREATED:20210522T003433Z
LAST-MODIFIED:20210522T003807Z
UID:10000248-1634898600-1634909400@www.norcalepiscopal.org
SUMMARY:River City Food Bank Open
DESCRIPTION:
URL:https://www.norcalepiscopal.org/event/bishops-visitation/2021-10-22/
LOCATION:River City Food Bank\, 2300 Edison Ave.\, Sacramento\, CA\, 95821
END:VEVENT
BEGIN:VEVENT
DTSTART;TZID=America/Detroit:20211023T100000
DTEND;TZID=America/Detroit:20211023T133000
DTSTAMP:20260423T220952
CREATED:20210522T002635Z
LAST-MODIFIED:20210522T004037Z
UID:10000233-1634983200-1634995800@www.norcalepiscopal.org
SUMMARY:River City Food Bank Open
DESCRIPTION:
URL:https://www.norcalepiscopal.org/event/river-city-food-bank-open/2021-10-23/
LOCATION:River City Food Bank\, 2300 Edison Ave.\, Sacramento\, CA\, 95821
END:VEVENT
BEGIN:VEVENT
DTSTART;TZID=America/Los_Angeles:20211024T080000
DTEND;TZID=America/Los_Angeles:20211024T170000
DTSTAMP:20260423T220952
CREATED:20211015T174329Z
LAST-MODIFIED:20211015T174329Z
UID:10000261-1635062400-1635094800@www.norcalepiscopal.org
SUMMARY:Bishop's visitation to Christ the King\, Quincy
DESCRIPTION:
URL:https://www.norcalepiscopal.org/event/bishops-visitation-to-christ-the-king-quincy/
LOCATION:Christ The King Episcopal Church\, 545 Lawrence St.\, Quincy\, 95971\, United States
END:VEVENT
BEGIN:VEVENT
DTSTART;TZID=America/Los_Angeles:20211027T080000
DTEND;TZID=America/Los_Angeles:20211027T170000
DTSTAMP:20260423T220952
CREATED:20211027T155123Z
LAST-MODIFIED:20211027T155137Z
UID:10000263-1635321600-1635354000@www.norcalepiscopal.org
SUMMARY:Annual Enrollment Open for Active Employees
DESCRIPTION:Annual Enrollment for Active Employees is open from October 27\, 2021 – November 17\, 2021.
URL:https://www.norcalepiscopal.org/event/annual-enrollment-open-for-active-employees/
END:VEVENT
BEGIN:VEVENT
DTSTART;TZID=America/Detroit:20211030T100000
DTEND;TZID=America/Detroit:20211030T133000
DTSTAMP:20260423T220952
CREATED:20210522T002635Z
LAST-MODIFIED:20210522T004037Z
UID:10000234-1635588000-1635600600@www.norcalepiscopal.org
SUMMARY:River City Food Bank Open
DESCRIPTION:
URL:https://www.norcalepiscopal.org/event/river-city-food-bank-open/2021-10-30/
LOCATION:River City Food Bank\, 2300 Edison Ave.\, Sacramento\, CA\, 95821
END:VEVENT
BEGIN:VEVENT
DTSTART;TZID=America/Los_Angeles:20211030T110000
DTEND;TZID=America/Los_Angeles:20211030T130000
DTSTAMP:20260423T220952
CREATED:20211015T174800Z
LAST-MODIFIED:20211015T181238Z
UID:10000262-1635591600-1635598800@www.norcalepiscopal.org
SUMMARY:Capital Deanery Confirmations at Trinity Cathedral
DESCRIPTION:
URL:https://www.norcalepiscopal.org/event/capital-deanery-confirmations-trinity-cathedral/
LOCATION:Trinity Cathedral\, Sacramento\, 2620 Capitol Ave\, Sacramento\, 95816\, United States
END:VEVENT
END:VCALENDAR