BEGIN:VCALENDAR
VERSION:2.0
PRODID:-//The Episcopal Diocese of Northern California - ECPv6.15.16.1//NONSGML v1.0//EN
CALSCALE:GREGORIAN
METHOD:PUBLISH
X-ORIGINAL-URL:https://www.norcalepiscopal.org
X-WR-CALDESC:Events for The Episcopal Diocese of Northern California
REFRESH-INTERVAL;VALUE=DURATION:PT1H
X-Robots-Tag:noindex
X-PUBLISHED-TTL:PT1H
BEGIN:VTIMEZONE
TZID:America/Detroit
BEGIN:DAYLIGHT
TZOFFSETFROM:-0500
TZOFFSETTO:-0400
TZNAME:EDT
DTSTART:20200308T070000
END:DAYLIGHT
BEGIN:STANDARD
TZOFFSETFROM:-0400
TZOFFSETTO:-0500
TZNAME:EST
DTSTART:20201101T060000
END:STANDARD
BEGIN:DAYLIGHT
TZOFFSETFROM:-0500
TZOFFSETTO:-0400
TZNAME:EDT
DTSTART:20210314T070000
END:DAYLIGHT
BEGIN:STANDARD
TZOFFSETFROM:-0400
TZOFFSETTO:-0500
TZNAME:EST
DTSTART:20211107T060000
END:STANDARD
BEGIN:DAYLIGHT
TZOFFSETFROM:-0500
TZOFFSETTO:-0400
TZNAME:EDT
DTSTART:20220313T070000
END:DAYLIGHT
BEGIN:STANDARD
TZOFFSETFROM:-0400
TZOFFSETTO:-0500
TZNAME:EST
DTSTART:20221106T060000
END:STANDARD
END:VTIMEZONE
BEGIN:VTIMEZONE
TZID:America/Los_Angeles
BEGIN:DAYLIGHT
TZOFFSETFROM:-0800
TZOFFSETTO:-0700
TZNAME:PDT
DTSTART:20200308T100000
END:DAYLIGHT
BEGIN:STANDARD
TZOFFSETFROM:-0700
TZOFFSETTO:-0800
TZNAME:PST
DTSTART:20201101T090000
END:STANDARD
BEGIN:DAYLIGHT
TZOFFSETFROM:-0800
TZOFFSETTO:-0700
TZNAME:PDT
DTSTART:20210314T100000
END:DAYLIGHT
BEGIN:STANDARD
TZOFFSETFROM:-0700
TZOFFSETTO:-0800
TZNAME:PST
DTSTART:20211107T090000
END:STANDARD
BEGIN:DAYLIGHT
TZOFFSETFROM:-0800
TZOFFSETTO:-0700
TZNAME:PDT
DTSTART:20220313T100000
END:DAYLIGHT
BEGIN:STANDARD
TZOFFSETFROM:-0700
TZOFFSETTO:-0800
TZNAME:PST
DTSTART:20221106T090000
END:STANDARD
END:VTIMEZONE
BEGIN:VEVENT
DTSTART;VALUE=DATE:20211105
DTEND;VALUE=DATE:20211107
DTSTAMP:20260424T084639
CREATED:20210522T004733Z
LAST-MODIFIED:20211102T203351Z
UID:10000252-1636070400-1636243199@www.norcalepiscopal.org
SUMMARY:Diocesan Convention
DESCRIPTION:
URL:https://www.norcalepiscopal.org/event/diocesan-convention-2/
LOCATION:Online\, CA
END:VEVENT
BEGIN:VEVENT
DTSTART;TZID=America/Detroit:20211106T100000
DTEND;TZID=America/Detroit:20211106T133000
DTSTAMP:20260424T084639
CREATED:20210522T002635Z
LAST-MODIFIED:20210522T004037Z
UID:10000235-1636192800-1636205400@www.norcalepiscopal.org
SUMMARY:River City Food Bank Open
DESCRIPTION:
URL:https://www.norcalepiscopal.org/event/river-city-food-bank-open/2021-11-06/
LOCATION:River City Food Bank\, 2300 Edison Ave.\, Sacramento\, CA\, 95821
END:VEVENT
BEGIN:VEVENT
DTSTART;TZID=America/Los_Angeles:20211107T080000
DTEND;TZID=America/Los_Angeles:20211107T170000
DTSTAMP:20260424T084639
CREATED:20210928T172253Z
LAST-MODIFIED:20210928T172402Z
UID:10000258-1636272000-1636304400@www.norcalepiscopal.org
SUMMARY:Dia de los Muertos and Ofrenda
DESCRIPTION:
URL:https://www.norcalepiscopal.org/event/dia-de-los-muertos-and-ofrenda/
END:VEVENT
BEGIN:VEVENT
DTSTART;VALUE=DATE:20211108
DTEND;VALUE=DATE:20211109
DTSTAMP:20260424T084639
CREATED:20210105T025120Z
LAST-MODIFIED:20210105T025120Z
UID:10000312-1636329600-1636415999@www.norcalepiscopal.org
SUMMARY:Office of the Bishop Closed
DESCRIPTION:Veteran’s Day Observance
URL:https://www.norcalepiscopal.org/event/office-of-the-bishop-closed-10/
END:VEVENT
BEGIN:VEVENT
DTSTART;TZID=America/Detroit:20211112T080000
DTEND;TZID=America/Detroit:20211113T170000
DTSTAMP:20260424T084639
CREATED:20210522T004828Z
LAST-MODIFIED:20210522T004828Z
UID:10000253-1636704000-1636822800@www.norcalepiscopal.org
SUMMARY:Best Skills\, Session 3
DESCRIPTION:
URL:https://www.norcalepiscopal.org/event/best-skills-session-3/
END:VEVENT
BEGIN:VEVENT
DTSTART;TZID=America/Detroit:20211113T100000
DTEND;TZID=America/Detroit:20211113T133000
DTSTAMP:20260424T084639
CREATED:20210522T002635Z
LAST-MODIFIED:20210522T004037Z
UID:10000236-1636797600-1636810200@www.norcalepiscopal.org
SUMMARY:River City Food Bank Open
DESCRIPTION:
URL:https://www.norcalepiscopal.org/event/river-city-food-bank-open/2021-11-13/
LOCATION:River City Food Bank\, 2300 Edison Ave.\, Sacramento\, CA\, 95821
END:VEVENT
BEGIN:VEVENT
DTSTART;TZID=America/Los_Angeles:20211117T080000
DTEND;TZID=America/Los_Angeles:20211117T170000
DTSTAMP:20260424T084639
CREATED:20211027T155215Z
LAST-MODIFIED:20211027T155258Z
UID:10000264-1637136000-1637168400@www.norcalepiscopal.org
SUMMARY:Annual Enrollment Deadline for Active Employees
DESCRIPTION:Annual Enrollment for Active Employees is open from October 27\, 2021 – November 17\, 2021.
URL:https://www.norcalepiscopal.org/event/annual-enrollment-deadline-for-active-employees/
END:VEVENT
BEGIN:VEVENT
DTSTART;TZID=America/Detroit:20211120T100000
DTEND;TZID=America/Detroit:20211120T133000
DTSTAMP:20260424T084639
CREATED:20210522T002635Z
LAST-MODIFIED:20210522T004037Z
UID:10000237-1637402400-1637415000@www.norcalepiscopal.org
SUMMARY:River City Food Bank Open
DESCRIPTION:
URL:https://www.norcalepiscopal.org/event/river-city-food-bank-open/2021-11-20/
LOCATION:River City Food Bank\, 2300 Edison Ave.\, Sacramento\, CA\, 95821
END:VEVENT
BEGIN:VEVENT
DTSTART;TZID=America/Detroit:20211126T103000
DTEND;TZID=America/Detroit:20211126T133000
DTSTAMP:20260424T084639
CREATED:20210522T003433Z
LAST-MODIFIED:20210522T003807Z
UID:10000249-1637922600-1637933400@www.norcalepiscopal.org
SUMMARY:River City Food Bank Open
DESCRIPTION:
URL:https://www.norcalepiscopal.org/event/bishops-visitation/2021-11-26/
LOCATION:River City Food Bank\, 2300 Edison Ave.\, Sacramento\, CA\, 95821
END:VEVENT
BEGIN:VEVENT
DTSTART;TZID=America/Detroit:20211127T100000
DTEND;TZID=America/Detroit:20211127T133000
DTSTAMP:20260424T084639
CREATED:20210522T002635Z
LAST-MODIFIED:20210522T004037Z
UID:10000238-1638007200-1638019800@www.norcalepiscopal.org
SUMMARY:River City Food Bank Open
DESCRIPTION:
URL:https://www.norcalepiscopal.org/event/river-city-food-bank-open/2021-11-27/
LOCATION:River City Food Bank\, 2300 Edison Ave.\, Sacramento\, CA\, 95821
END:VEVENT
END:VCALENDAR