BEGIN:VCALENDAR
VERSION:2.0
PRODID:-//The Episcopal Diocese of Northern California - ECPv6.15.16.1//NONSGML v1.0//EN
CALSCALE:GREGORIAN
METHOD:PUBLISH
X-WR-CALNAME:The Episcopal Diocese of Northern California
X-ORIGINAL-URL:https://www.norcalepiscopal.org
X-WR-CALDESC:Events for The Episcopal Diocese of Northern California
REFRESH-INTERVAL;VALUE=DURATION:PT1H
X-Robots-Tag:noindex
X-PUBLISHED-TTL:PT1H
BEGIN:VTIMEZONE
TZID:America/Los_Angeles
BEGIN:DAYLIGHT
TZOFFSETFROM:-0800
TZOFFSETTO:-0700
TZNAME:PDT
DTSTART:20210314T100000
END:DAYLIGHT
BEGIN:STANDARD
TZOFFSETFROM:-0700
TZOFFSETTO:-0800
TZNAME:PST
DTSTART:20211107T090000
END:STANDARD
BEGIN:DAYLIGHT
TZOFFSETFROM:-0800
TZOFFSETTO:-0700
TZNAME:PDT
DTSTART:20220313T100000
END:DAYLIGHT
BEGIN:STANDARD
TZOFFSETFROM:-0700
TZOFFSETTO:-0800
TZNAME:PST
DTSTART:20221106T090000
END:STANDARD
BEGIN:DAYLIGHT
TZOFFSETFROM:-0800
TZOFFSETTO:-0700
TZNAME:PDT
DTSTART:20230312T100000
END:DAYLIGHT
BEGIN:STANDARD
TZOFFSETFROM:-0700
TZOFFSETTO:-0800
TZNAME:PST
DTSTART:20231105T090000
END:STANDARD
END:VTIMEZONE
BEGIN:VEVENT
DTSTART;VALUE=DATE:20220102
DTEND;VALUE=DATE:20220103
DTSTAMP:20260422T010722
CREATED:20211217T222254Z
LAST-MODIFIED:20211217T222907Z
UID:10000265-1641081600-1641167999@www.norcalepiscopal.org
SUMMARY:Bishop's Visitation- St. Mary's\, Elk Grove
DESCRIPTION:
URL:https://www.norcalepiscopal.org/event/bishops-visitation-st-marys-elk-grove/
LOCATION:St. Mary’s Episcopal Church\, 9085 Calvine Rd\, Sacramento\, CA\, 95829\, United States
END:VEVENT
BEGIN:VEVENT
DTSTART;VALUE=DATE:20220109
DTEND;VALUE=DATE:20220110
DTSTAMP:20260422T010722
CREATED:20211217T225209Z
LAST-MODIFIED:20211217T225209Z
UID:10000346-1641686400-1641772799@www.norcalepiscopal.org
SUMMARY:Bishop's Visitation- St. Patrick's\, Kenwood
DESCRIPTION:
URL:https://www.norcalepiscopal.org/event/bishops-visitation-st-patricks-kenwood/
LOCATION:St. Patrick’s Episcopal Church\, 9000 Sonoma Hwy\, Kenwood\, CA\, 95452\, United States
END:VEVENT
BEGIN:VEVENT
DTSTART;TZID=America/Los_Angeles:20220115T150000
DTEND;TZID=America/Los_Angeles:20220115T170000
DTSTAMP:20260422T010722
CREATED:20220107T182508Z
LAST-MODIFIED:20220107T182538Z
UID:10000271-1642258800-1642266000@www.norcalepiscopal.org
SUMMARY:Ordination to the Priesthood
DESCRIPTION:By the Grace of God and with the people consenting\nThe Right Reverend Megan M. Traquair\nBishop of the Episcopal Diocese of Northern California\nwill ordain \nKathy Ellen Lawler \nTo the Sacred Order of Priests\nIn Christ’s One Holy\, Catholic and Apostolic Church \nTrinity Episcopal Cathedral\nSacramento\, California \nSaturday\, the Fifteenth of January\nTwo Thousand and Twenty-two \nThree in the afternoon \nYour prayers and virtual presence are requested \nClergy: Red Stoles \nVirtual Event of the Ordination
URL:https://www.norcalepiscopal.org/event/ordination-to-the-priesthood/
LOCATION:Trinity Cathedral\, Sacramento\, 2620 Capitol Ave\, Sacramento\, 95816\, United States
END:VEVENT
BEGIN:VEVENT
DTSTART;VALUE=DATE:20220123
DTEND;VALUE=DATE:20220124
DTSTAMP:20260422T010722
CREATED:20211217T225451Z
LAST-MODIFIED:20211217T225733Z
UID:10000347-1642896000-1642982399@www.norcalepiscopal.org
SUMMARY:Bishop's Visitation- St. John's\, Chico
DESCRIPTION:
URL:https://www.norcalepiscopal.org/event/bishops-visitation-st-johns-chico/
LOCATION:St. John’s\, Chico\, 2341 Floral Ave\, Chico\, CA\, 95926\, United States
END:VEVENT
BEGIN:VEVENT
DTSTART;VALUE=DATE:20220129
DTEND;VALUE=DATE:20220130
DTSTAMP:20260422T010722
CREATED:20211217T230151Z
LAST-MODIFIED:20211217T230151Z
UID:10000348-1643414400-1643500799@www.norcalepiscopal.org
SUMMARY:Bishop's Visitation- All Saints\, Redding
DESCRIPTION:Celebration of New Ministry: Rev. Aidan Rontani
URL:https://www.norcalepiscopal.org/event/bishops-visitation-all-saints-redding/
LOCATION:All Saints Episcopal Church\, Redding\, 2150 Benton Dr\, Redding\, CA\, 96003\, United States
END:VEVENT
END:VCALENDAR