BEGIN:VCALENDAR
VERSION:2.0
PRODID:-//The Episcopal Diocese of Northern California - ECPv6.15.16.1//NONSGML v1.0//EN
CALSCALE:GREGORIAN
METHOD:PUBLISH
X-WR-CALNAME:The Episcopal Diocese of Northern California
X-ORIGINAL-URL:https://www.norcalepiscopal.org
X-WR-CALDESC:Events for The Episcopal Diocese of Northern California
REFRESH-INTERVAL;VALUE=DURATION:PT1H
X-Robots-Tag:noindex
X-PUBLISHED-TTL:PT1H
BEGIN:VTIMEZONE
TZID:America/Los_Angeles
BEGIN:DAYLIGHT
TZOFFSETFROM:-0800
TZOFFSETTO:-0700
TZNAME:PDT
DTSTART:20210314T100000
END:DAYLIGHT
BEGIN:STANDARD
TZOFFSETFROM:-0700
TZOFFSETTO:-0800
TZNAME:PST
DTSTART:20211107T090000
END:STANDARD
BEGIN:DAYLIGHT
TZOFFSETFROM:-0800
TZOFFSETTO:-0700
TZNAME:PDT
DTSTART:20220313T100000
END:DAYLIGHT
BEGIN:STANDARD
TZOFFSETFROM:-0700
TZOFFSETTO:-0800
TZNAME:PST
DTSTART:20221106T090000
END:STANDARD
BEGIN:DAYLIGHT
TZOFFSETFROM:-0800
TZOFFSETTO:-0700
TZNAME:PDT
DTSTART:20230312T100000
END:DAYLIGHT
BEGIN:STANDARD
TZOFFSETFROM:-0700
TZOFFSETTO:-0800
TZNAME:PST
DTSTART:20231105T090000
END:STANDARD
END:VTIMEZONE
BEGIN:VEVENT
DTSTART;VALUE=DATE:20220704
DTEND;VALUE=DATE:20220705
DTSTAMP:20260425T091748
CREATED:20220114T220547Z
LAST-MODIFIED:20220114T220547Z
UID:10000364-1656892800-1656979199@www.norcalepiscopal.org
SUMMARY:4th of July
DESCRIPTION:
URL:https://www.norcalepiscopal.org/event/4th-of-july/
END:VEVENT
BEGIN:VEVENT
DTSTART;VALUE=DATE:20220710
DTEND;VALUE=DATE:20220711
DTSTAMP:20260425T091748
CREATED:20220114T220712Z
LAST-MODIFIED:20220114T220712Z
UID:10000365-1657411200-1657497599@www.norcalepiscopal.org
SUMMARY:General Convention
DESCRIPTION:
URL:https://www.norcalepiscopal.org/event/general-convention/
END:VEVENT
BEGIN:VEVENT
DTSTART;TZID=America/Los_Angeles:20220726T000000
DTEND;TZID=America/Los_Angeles:20220804T235900
DTSTAMP:20260425T091748
CREATED:20220114T221122Z
LAST-MODIFIED:20220707T193320Z
UID:10000367-1658793600-1659657540@www.norcalepiscopal.org
SUMMARY:Lambeth Conference
DESCRIPTION:2022 is the year of the fifteenth Lambeth Conference. The theme is God’s Church for God’s World – Walking\, Listening and Witnessing Together. The Lambeth Conference is a once-a-decade gathering of bishops from across the Anglican Communion. \nConvened by the Archbishop of Canterbury\, the conference will meet in 2022. Before the conference meets\, there will be time given for prayer\, preparation and dialogue. There will be three phases to the Lambeth Conference journey. \nThis event plays an influential role in the life of the Anglican Church  and gathers together bishops and spouses for prayer\, bible study\, worship and fellowship and helps shape the life of the Anglican Communion for the next decade. \nAs the Lambeth Conference explores the theme of being ‘God’s Church for God’s World’\, the Biblical focus for the event will be the book of 1 Peter. A wide range of resources have been developed for use in Bible studies\, discussions and seminars.
URL:https://www.norcalepiscopal.org/event/lambeth/
END:VEVENT
END:VCALENDAR