BEGIN:VCALENDAR
VERSION:2.0
PRODID:-//The Episcopal Diocese of Northern California - ECPv6.15.16.1//NONSGML v1.0//EN
CALSCALE:GREGORIAN
METHOD:PUBLISH
X-ORIGINAL-URL:https://www.norcalepiscopal.org
X-WR-CALDESC:Events for The Episcopal Diocese of Northern California
REFRESH-INTERVAL;VALUE=DURATION:PT1H
X-Robots-Tag:noindex
X-PUBLISHED-TTL:PT1H
BEGIN:VTIMEZONE
TZID:America/Los_Angeles
BEGIN:DAYLIGHT
TZOFFSETFROM:-0800
TZOFFSETTO:-0700
TZNAME:PDT
DTSTART:20210314T100000
END:DAYLIGHT
BEGIN:STANDARD
TZOFFSETFROM:-0700
TZOFFSETTO:-0800
TZNAME:PST
DTSTART:20211107T090000
END:STANDARD
BEGIN:DAYLIGHT
TZOFFSETFROM:-0800
TZOFFSETTO:-0700
TZNAME:PDT
DTSTART:20220313T100000
END:DAYLIGHT
BEGIN:STANDARD
TZOFFSETFROM:-0700
TZOFFSETTO:-0800
TZNAME:PST
DTSTART:20221106T090000
END:STANDARD
BEGIN:DAYLIGHT
TZOFFSETFROM:-0800
TZOFFSETTO:-0700
TZNAME:PDT
DTSTART:20230312T100000
END:DAYLIGHT
BEGIN:STANDARD
TZOFFSETFROM:-0700
TZOFFSETTO:-0800
TZNAME:PST
DTSTART:20231105T090000
END:STANDARD
END:VTIMEZONE
BEGIN:VEVENT
DTSTART;TZID=America/Los_Angeles:20220904T090000
DTEND;TZID=America/Los_Angeles:20220904T103000
DTSTAMP:20260425T125427
CREATED:20220831T202110Z
LAST-MODIFIED:20220901T235225Z
UID:10000408-1662282000-1662287400@www.norcalepiscopal.org
SUMMARY:Jazz Mass
DESCRIPTION:
URL:https://www.norcalepiscopal.org/event/jazz-mass/
LOCATION:St. Peter’s\, Red Bluff\, 510 Jefferson St\, Red Bluff\, CA\, 96080\, United States
END:VEVENT
BEGIN:VEVENT
DTSTART;VALUE=DATE:20220905
DTEND;VALUE=DATE:20220906
DTSTAMP:20260425T125427
CREATED:20220901T233441Z
LAST-MODIFIED:20220902T183120Z
UID:10000411-1662336000-1662422399@www.norcalepiscopal.org
SUMMARY:Labor Day- Office of the Bishop Closed
DESCRIPTION:Office of the Bishop is closed and we will resume our regular office hours on Tuesday\, September 6\, 2022.
URL:https://www.norcalepiscopal.org/event/labor-day/
END:VEVENT
BEGIN:VEVENT
DTSTART;TZID=America/Los_Angeles:20220908T130000
DTEND;TZID=America/Los_Angeles:20220908T170000
DTSTAMP:20260425T125427
CREATED:20220817T161811Z
LAST-MODIFIED:20220829T172126Z
UID:10000397-1662642000-1662656400@www.norcalepiscopal.org
SUMMARY:Commission on the Environment
DESCRIPTION:The Northern California Diocese is beginning a new focus on our precious planet with the formation of a Commission on the Environment.\n\nChurch leaders voted to form the commission at the 2019 Diocesan Convention. After a delayed start\, the commission now meets monthly and is beginning to shape practices to help individual churches do more for the environment\, both in their own communities and globally.\n\nThe resolution forming the commission recognizes that\, in many ways\, our lifestyles have had a damaging impact on our environment and the habitats we share with other creatures. Presiding Bishop Michael Curry has called on Episcopalians to “love God’s Creation” as God loves the world.\n\nThe new Commission on the Environment aims to help take us down this path. We will not issue edicts to churches. Rather\, we will become a resource hub. Many churches in the diocese are already engaged in a variety of great environmental efforts\, from producing their own solar power to including vegan options at coffee service. Many of these efforts link congregations with neighbors while reducing a church’s environmental footprint.\n\nNumerous General Convention resolutions have called on Episcopalians to heal our planet from threats such as climate change and habitat destruction. They’ve encouraged practices such as energy and water efficiency\, and sourcing locally grown food. The commission will examine these resolutions to identify projects for local churches. We will also highlight successful work\, connect churches with project experts\, and share best practices with those who wish to do more.\n\nOur place in God’s Creation is inexorably linked with that of our neighbors. The Commission on the Environment acknowledges our interdependence with all life\, and encourages us to collaborate for a better world. Working together with faith and determination\, we may be able to heal some of the damage that’s been done.\n\nThe Commission’s next meeting is Thursday\, September 8 at 1:00pm\nvia Zoom. To participate or learn more\, please contact Miriam Casey at mlcasey7@yahoo.com.
URL:https://www.norcalepiscopal.org/event/commission-on-the-environment-forming/
LOCATION:Zoom
END:VEVENT
BEGIN:VEVENT
DTSTART;TZID=America/Los_Angeles:20220908T150000
DTEND;TZID=America/Los_Angeles:20220908T160000
DTSTAMP:20260425T125427
CREATED:20220831T211936Z
LAST-MODIFIED:20220831T211936Z
UID:10000410-1662649200-1662652800@www.norcalepiscopal.org
SUMMARY:“Helping Episcopalians Vote Faithfully in U.S. Elections”
DESCRIPTION:Calling all Episcopal Deacons! \n“Helping Episcopalians Vote Faithfully in U.S. Elections” with the Association for Episcopal Deacons on Thursday\, September 8 3:00 – 4:00 (Pacific) and special guest Bryce Bennett from Vote Early Day. All can attend\, but we will take a particular angle for deacons.
URL:https://www.norcalepiscopal.org/event/helping-episcopalians-vote-faithfully-in-u-s-elections/
END:VEVENT
BEGIN:VEVENT
DTSTART;TZID=America/Los_Angeles:20220908T190000
DTEND;TZID=America/Los_Angeles:20220908T190000
DTSTAMP:20260425T125427
CREATED:20220831T211305Z
LAST-MODIFIED:20220831T211652Z
UID:10000409-1662663600-1662663600@www.norcalepiscopal.org
SUMMARY:Exploring the Old Testament in the New
DESCRIPTION:Hybrid Course Announced \nThe Center for Bible Study will be offering a hybrid course (online and in person) based at St. Augustine’s Episcopal Church in Rocklin. \nThe subject will be Exploring the Old Testament in the New \nIt will be taught by the Rev. Peter Rodgers\, and based on his 2012 book of that title. The course is free\, but with a suggested $50 donation (or whatever one can afford for the book). The course will meet at St. Augustine’s and online at 7 p.m. on Thursdays beginning September 8. \nFor details and registration visit: www.centerforbiblestudy.wordpress.com \nIf you have questions\, email Peter Rodgers at peterrodg@gmail.com.
URL:https://www.norcalepiscopal.org/event/exploring-the-old-testament-in-the-new/
LOCATION:St. Augustine of Canterbury\, Rocklin\, 1800 Wildcat Blvd\, Rocklin\, CA\, 95765\, United States
END:VEVENT
BEGIN:VEVENT
DTSTART;TZID=America/Los_Angeles:20220910T093000
DTEND;TZID=America/Los_Angeles:20220910T160000
DTSTAMP:20260425T125427
CREATED:20220817T162445Z
LAST-MODIFIED:20220817T164817Z
UID:10000396-1662802200-1662825600@www.norcalepiscopal.org
SUMMARY:I Will\, With God's Help: Journey toward Racial Healing and Justice
DESCRIPTION:Anti-racism workshops for the Episcopal Diocese of\nNorthern California\n\nThis one-day in-person workshop was specially developed for the Episcopal Diocese of Northern California by the Commission for Intercultural Ministries. Renew your Baptismal Covenant as we learn about forms of historic and contemporary racism and how to engage in ministry with sensitivity and respect for all.\n\nPlease note that due to the nature of the program\, attendance is limited to 30 participants at each workshop.\n\nRegister here: https://forms.gle/mSy9wu2etPhEm7f27
URL:https://www.norcalepiscopal.org/event/i-will-with-gods-help-journey-toward-racial-healing-and-justice-2/
LOCATION:All Saints Episcopal Church\, Redding\, 2150 Benton Dr\, Redding\, CA\, 96003\, United States
END:VEVENT
BEGIN:VEVENT
DTSTART;TZID=America/Los_Angeles:20220910T100000
DTEND;TZID=America/Los_Angeles:20220910T120000
DTSTAMP:20260425T125427
CREATED:20220817T170150Z
LAST-MODIFIED:20220817T171359Z
UID:10000399-1662804000-1662811200@www.norcalepiscopal.org
SUMMARY:Sister Joan Chittister | Zoom Webinar
DESCRIPTION:A Monastic Heart: How to Live an Ordinary Life Extraordinarily Well \nLink to Registration: https://zoom.us/webinar/register/WN_VA2AGhckTdOsj26viD0xjQ\n\nPresented by Episcopal Community Services & Diocesan Partners in Ministries of Health.\nVisit www.norcalecs.org for more information.
URL:https://www.norcalepiscopal.org/event/sister-joan-chittister-zoom-webinar/
LOCATION:Zoom
END:VEVENT
BEGIN:VEVENT
DTSTART;VALUE=DATE:20220911
DTEND;VALUE=DATE:20220912
DTSTAMP:20260425T125427
CREATED:20220114T223045Z
LAST-MODIFIED:20220114T223045Z
UID:10000370-1662854400-1662940799@www.norcalepiscopal.org
SUMMARY:Bishop's Visitation- St. Stephen's\, Sebastopol
DESCRIPTION:
URL:https://www.norcalepiscopal.org/event/bishops-visitation-st-stephens-sebastopol/
LOCATION:St. Stephen’s Episcopal Church\, 500 Robinson Rd.\, Sebastopol\, CA\, 95472\, United States
END:VEVENT
BEGIN:VEVENT
DTSTART;TZID=America/Los_Angeles:20220915T180000
DTEND;TZID=America/Los_Angeles:20220915T190000
DTSTAMP:20260425T125427
CREATED:20220913T154421Z
LAST-MODIFIED:20220913T154421Z
UID:10000412-1663264800-1663268400@www.norcalepiscopal.org
SUMMARY:A Solemn Evensong in Remembrance of ﻿Her Majesty Queen Elizabeth II
DESCRIPTION:We will hold a special Solemn Evensong\, open to the public\, with prayers and music in remembrance of Her Majesty Queen Elizabeth II on Thursday\, September 15 at 6:00 pm.\n\nThe prayers and remembrances will be led by The Very Rev. Matthew Woodward\, Dean of Trinity Cathedral. Dean Woodward was ordained a priest in the Church of England after studying theology at the London School of Theology\, King’s College\, London\, and Westcott House\, Cambridge. He was visiting family in the U.K. at the time of the Queen’s death.\n\nAlso participating will be The Right Rev. Megan Traquair\, bishop of the Diocese of Northern California. She recently returned from the once-a-decade gathering of Anglican bishops from around the world at Canterbury Cathedral in the U.K.\n\nWhat: Solemn Evensong in Remembrance of Her Majesty Queen Elizabeth II\nWhen: Thursday\, Sep 15 – 6:00 pm\nWhere: Trinity Cathedral\n2620 Capitol Ave\nSacramento\, CA 95816\n\nClick here to access livestream
URL:https://www.norcalepiscopal.org/event/a-solemn-evensong-in-remembrance-of-her-majesty-queen-elizabeth-ii/
LOCATION:Trinity Cathedral\, Sacramento\, 2620 Capitol Ave\, Sacramento\, 95816\, United States
END:VEVENT
BEGIN:VEVENT
DTSTART;VALUE=DATE:20220917
DTEND;VALUE=DATE:20220918
DTSTAMP:20260425T125427
CREATED:20220114T223140Z
LAST-MODIFIED:20220114T223140Z
UID:10000371-1663372800-1663459199@www.norcalepiscopal.org
SUMMARY:Diocesan Convocations- Virtual
DESCRIPTION:
URL:https://www.norcalepiscopal.org/event/diocesan-convocations-virtual/
END:VEVENT
BEGIN:VEVENT
DTSTART;VALUE=DATE:20220918
DTEND;VALUE=DATE:20220919
DTSTAMP:20260425T125427
CREATED:20211217T232936Z
LAST-MODIFIED:20211217T232936Z
UID:10000268-1663459200-1663545599@www.norcalepiscopal.org
SUMMARY:Bishop's Visitation- St. Clement's\, Rancho Cordova
DESCRIPTION:
URL:https://www.norcalepiscopal.org/event/bishops-visitation-st-clements-rancho-cordova/
LOCATION:St. Clement’s\, Rancho Cordova\, 2376 Zinfandel Dr\, Rancho Cordova\, CA\, 95670\, United States
END:VEVENT
BEGIN:VEVENT
DTSTART;VALUE=DATE:20220923
DTEND;VALUE=DATE:20220925
DTSTAMP:20260425T125427
CREATED:20220817T174448Z
LAST-MODIFIED:20220817T174448Z
UID:10000402-1663891200-1664063999@www.norcalepiscopal.org
SUMMARY:Best Skills - Best Churches : Volunteers in Service
DESCRIPTION:
URL:https://www.norcalepiscopal.org/event/best-skills-best-churches-volunteers-in-service/
LOCATION:Zoom
END:VEVENT
BEGIN:VEVENT
DTSTART;TZID=America/Los_Angeles:20220924T093000
DTEND;TZID=America/Los_Angeles:20220924T160000
DTSTAMP:20260425T125427
CREATED:20220817T162733Z
LAST-MODIFIED:20220817T162733Z
UID:10000395-1664011800-1664035200@www.norcalepiscopal.org
SUMMARY:I Will\, With God's Help: Journey toward Racial Healing and Justice
DESCRIPTION:Anti-racism workshops for the Episcopal Diocese of\nNorthern California\n\nThis one-day in-person workshop was specially developed for the Episcopal Diocese of Northern California by the Commission for Intercultural Ministries. Renew your Baptismal Covenant as we learn about forms of historic and contemporary racism and how to engage in ministry with sensitivity and respect for all.\n\nPlease note that due to the nature of the program\, attendance is limited to 30 participants at each workshop.\n\nRegister here:  https://forms.gle/PFhqthoixtXYG3Vi6
URL:https://www.norcalepiscopal.org/event/i-will-with-gods-help-journey-toward-racial-healing-and-justice-3/
LOCATION:Incarnation\, Santa Rosa\, 550 Mendocino Ave\, Santa Rosa\, CA\, 95401\, United States
END:VEVENT
BEGIN:VEVENT
DTSTART;VALUE=DATE:20220925
DTEND;VALUE=DATE:20220926
DTSTAMP:20260425T125427
CREATED:20211217T233315Z
LAST-MODIFIED:20211217T234041Z
UID:10000269-1664064000-1664150399@www.norcalepiscopal.org
SUMMARY:Bishop's Visitation- St. Alban's\, Arcata
DESCRIPTION:
URL:https://www.norcalepiscopal.org/event/bishops-visitation-st-albans-arcata/
LOCATION:St. Alban’s\, 1675 Chester Ave\, Arcata\, CA\, 95521\, United States
END:VEVENT
END:VCALENDAR