BEGIN:VCALENDAR
VERSION:2.0
PRODID:-//The Episcopal Diocese of Northern California - ECPv6.15.16.1//NONSGML v1.0//EN
CALSCALE:GREGORIAN
METHOD:PUBLISH
X-ORIGINAL-URL:https://www.norcalepiscopal.org
X-WR-CALDESC:Events for The Episcopal Diocese of Northern California
REFRESH-INTERVAL;VALUE=DURATION:PT1H
X-Robots-Tag:noindex
X-PUBLISHED-TTL:PT1H
BEGIN:VTIMEZONE
TZID:America/Los_Angeles
BEGIN:DAYLIGHT
TZOFFSETFROM:-0800
TZOFFSETTO:-0700
TZNAME:PDT
DTSTART:20230312T100000
END:DAYLIGHT
BEGIN:STANDARD
TZOFFSETFROM:-0700
TZOFFSETTO:-0800
TZNAME:PST
DTSTART:20231105T090000
END:STANDARD
BEGIN:DAYLIGHT
TZOFFSETFROM:-0800
TZOFFSETTO:-0700
TZNAME:PDT
DTSTART:20240310T100000
END:DAYLIGHT
BEGIN:STANDARD
TZOFFSETFROM:-0700
TZOFFSETTO:-0800
TZNAME:PST
DTSTART:20241103T090000
END:STANDARD
BEGIN:DAYLIGHT
TZOFFSETFROM:-0800
TZOFFSETTO:-0700
TZNAME:PDT
DTSTART:20250309T100000
END:DAYLIGHT
BEGIN:STANDARD
TZOFFSETFROM:-0700
TZOFFSETTO:-0800
TZNAME:PST
DTSTART:20251102T090000
END:STANDARD
END:VTIMEZONE
BEGIN:VEVENT
DTSTART;TZID=America/Los_Angeles:20240203T110000
DTEND;TZID=America/Los_Angeles:20240203T130000
DTSTAMP:20260423T174114
CREATED:20240122T220818Z
LAST-MODIFIED:20240122T221000Z
UID:10000583-1706958000-1706965200@www.norcalepiscopal.org
SUMMARY:Rev. Zachary Neubauer Celebration of New Ministry
DESCRIPTION:St. Clement’s will be hosting a Celebration of New Ministry for their Rector\, Rev. Zachary Neubauer.
URL:https://www.norcalepiscopal.org/event/rev-zachary-neubauer-celebration-of-new-ministry/
LOCATION:St. Clement’s\, Rancho Cordova\, 2376 Zinfandel Dr\, Rancho Cordova\, CA\, 95670\, United States
END:VEVENT
BEGIN:VEVENT
DTSTART;TZID=America/Los_Angeles:20240207T153000
DTEND;TZID=America/Los_Angeles:20240207T170000
DTSTAMP:20260423T174114
CREATED:20240206T164945Z
LAST-MODIFIED:20240206T164945Z
UID:10000584-1707319800-1707325200@www.norcalepiscopal.org
SUMMARY:Province 8 Network Meeting – Stewardship\, Planned Giving\, Grants\, Investments and Endowments
DESCRIPTION:Guest speaker:  Cn. J. Davey Gerhard\, TENS Executive Director\, and Canon for Stewardship\, Episcopal Diocese of California. \nTopic: Stewardship programs; how to look back and evaluate your stewardship program. \nLet’s take advantage of Cn. Gerhard’s wisdom and share it with all those involved with stewardship campaigns in your diocese. Please feel free to forward this announcement to those in your parish involved with stewardship programs. They are welcomed to participate in the meeting to hear Cn. Gerhard’s presentation. \nZoom Meeting Link \nhttps://zoom.us/j/7562098762?pwd=YTV5TjlZamVBeERYYmxFRFpQVEc2dz09&omn=97704003154 \nMeeting ID: \n756 209 8762 \nPasscode \n899844 \nAny questions? Contact Peter Juve at pjuve@aol.com
URL:https://www.norcalepiscopal.org/event/province-8-network-meeting-stewardship-planned-giving-grants-investments-and-endowments/
LOCATION:Zoom
END:VEVENT
BEGIN:VEVENT
DTSTART;VALUE=DATE:20240208
DTEND;VALUE=DATE:20240210
DTSTAMP:20260423T174114
CREATED:20240104T195620Z
LAST-MODIFIED:20240104T195620Z
UID:10000578-1707350400-1707523199@www.norcalepiscopal.org
SUMMARY:Deans Retreat
DESCRIPTION:
URL:https://www.norcalepiscopal.org/event/deans-retreat/
LOCATION:Mercy Center\, Auburn\, 535 Sacramento St 95603\, Auburn\, CA\, 95603\, United States
END:VEVENT
BEGIN:VEVENT
DTSTART;VALUE=DATE:20240208
DTEND;VALUE=DATE:20240211
DTSTAMP:20260423T174114
CREATED:20240104T192851Z
LAST-MODIFIED:20240104T192851Z
UID:10000565-1707350400-1707609599@www.norcalepiscopal.org
SUMMARY:Board of Trustees Retreat
DESCRIPTION:
URL:https://www.norcalepiscopal.org/event/board-of-trustees-retreat/
LOCATION:Mercy Center\, Auburn\, 535 Sacramento St 95603\, Auburn\, CA\, 95603\, United States
END:VEVENT
BEGIN:VEVENT
DTSTART;TZID=America/Los_Angeles:20240210T160000
DTEND;TZID=America/Los_Angeles:20240210T170000
DTSTAMP:20260423T174114
CREATED:20240206T165201Z
LAST-MODIFIED:20240206T165201Z
UID:10000585-1707580800-1707584400@www.norcalepiscopal.org
SUMMARY:Betty Kwan Chinn Book Signing and Chinese New Year Celebration
DESCRIPTION:Betty Kwan Chinn will be signing copies of her book\, The Gray Bird Sings. The book describes Betty’s journey from a tortured childhood\, to her life of service to the poor\, and the recognition she has received along the way. An interview between author Karen M. Price\, Pastor Dan Price and Betty will be followed by audience Q & A\, and a solo by David Powell. \nBook study of The Gray Bird Sings will be offered at Christ Episcopal Church in February and March.
URL:https://www.norcalepiscopal.org/event/betty-kwan-chinn-book-signing-and-chinese-new-year-celebration/
LOCATION:Christ Church\, 625 15th St\, Eureka\, 95501\, United States
END:VEVENT
BEGIN:VEVENT
DTSTART;TZID=America/Los_Angeles:20240213T163000
DTEND;TZID=America/Los_Angeles:20240213T193000
DTSTAMP:20260423T174114
CREATED:20240206T165313Z
LAST-MODIFIED:20240206T170600Z
UID:10000586-1707841800-1707852600@www.norcalepiscopal.org
SUMMARY:Shrove Tuesday\, Pancake Supper\, and Raffle!
DESCRIPTION:$12 for ages 12+ \n$8 for ages 5-12 \nFree for ages under 5 \nFor more information: facebook.com/stlukesgalt
URL:https://www.norcalepiscopal.org/event/shrove-tuesday-pancake-supper-and-raffle/
LOCATION:St. Luke’s Episcopal Church\, Galt\, 200 3rd St.\, Galt\, CA\, 95632\, United States
END:VEVENT
BEGIN:VEVENT
DTSTART;VALUE=DATE:20240214
DTEND;VALUE=DATE:20240215
DTSTAMP:20260423T174114
CREATED:20240104T192920Z
LAST-MODIFIED:20240104T192920Z
UID:10000566-1707868800-1707955199@www.norcalepiscopal.org
SUMMARY:Ash Wednesday
DESCRIPTION:
URL:https://www.norcalepiscopal.org/event/ash-wednesday-4/
END:VEVENT
BEGIN:VEVENT
DTSTART;VALUE=DATE:20240218
DTEND;VALUE=DATE:20240219
DTSTAMP:20260423T174114
CREATED:20240104T195729Z
LAST-MODIFIED:20240104T195729Z
UID:10000579-1708214400-1708300799@www.norcalepiscopal.org
SUMMARY:Bishop Visitation: Shepherd by the Sea\, Gualala
DESCRIPTION:
URL:https://www.norcalepiscopal.org/event/bishop-visitation-shepherd-by-the-sea-gualala/
LOCATION:Shepherd by the Sea\, Gualala\, 39141 Church St.\, Gualala\, CA\, 95445\, United States
END:VEVENT
BEGIN:VEVENT
DTSTART;VALUE=DATE:20240219
DTEND;VALUE=DATE:20240220
DTSTAMP:20260423T174115
CREATED:20240104T200018Z
LAST-MODIFIED:20240104T200018Z
UID:10000580-1708300800-1708387199@www.norcalepiscopal.org
SUMMARY:President's Day ( Office of the Bishop closed)
DESCRIPTION:The Office of the Bishop is closed for President’s Day obserance. We’ll return back to our regular office hours on Tuesday\, February 20.
URL:https://www.norcalepiscopal.org/event/presidents-day-office-of-the-bishop-closed-2/
END:VEVENT
BEGIN:VEVENT
DTSTART;VALUE=DATE:20240227
DTEND;VALUE=DATE:20240306
DTSTAMP:20260423T174115
CREATED:20240104T193151Z
LAST-MODIFIED:20240104T193151Z
UID:10000568-1708992000-1709683199@www.norcalepiscopal.org
SUMMARY:Spring House of Bishops
DESCRIPTION:
URL:https://www.norcalepiscopal.org/event/spring-house-of-bishops-2/
END:VEVENT
END:VCALENDAR