BEGIN:VCALENDAR
VERSION:2.0
PRODID:-//The Episcopal Diocese of Northern California - ECPv6.15.16.1//NONSGML v1.0//EN
CALSCALE:GREGORIAN
METHOD:PUBLISH
X-ORIGINAL-URL:https://www.norcalepiscopal.org
X-WR-CALDESC:Events for The Episcopal Diocese of Northern California
REFRESH-INTERVAL;VALUE=DURATION:PT1H
X-Robots-Tag:noindex
X-PUBLISHED-TTL:PT1H
BEGIN:VTIMEZONE
TZID:America/Los_Angeles
BEGIN:DAYLIGHT
TZOFFSETFROM:-0800
TZOFFSETTO:-0700
TZNAME:PDT
DTSTART:20230312T100000
END:DAYLIGHT
BEGIN:STANDARD
TZOFFSETFROM:-0700
TZOFFSETTO:-0800
TZNAME:PST
DTSTART:20231105T090000
END:STANDARD
BEGIN:DAYLIGHT
TZOFFSETFROM:-0800
TZOFFSETTO:-0700
TZNAME:PDT
DTSTART:20240310T100000
END:DAYLIGHT
BEGIN:STANDARD
TZOFFSETFROM:-0700
TZOFFSETTO:-0800
TZNAME:PST
DTSTART:20241103T090000
END:STANDARD
BEGIN:DAYLIGHT
TZOFFSETFROM:-0800
TZOFFSETTO:-0700
TZNAME:PDT
DTSTART:20250309T100000
END:DAYLIGHT
BEGIN:STANDARD
TZOFFSETFROM:-0700
TZOFFSETTO:-0800
TZNAME:PST
DTSTART:20251102T090000
END:STANDARD
END:VTIMEZONE
BEGIN:VEVENT
DTSTART;VALUE=DATE:20240927
DTEND;VALUE=DATE:20240929
DTSTAMP:20260419T135530
CREATED:20231121T224814Z
LAST-MODIFIED:20240104T184317Z
UID:10000558-1727395200-1727567999@www.norcalepiscopal.org
SUMMARY:New Camino Training
DESCRIPTION:We’re excited to announce that we will have a diocesan-wide New Camino training on February 16 & 17\, 2024 at St. John’s\, Chico. The Rev. Antony Guillen\, the Episcopal Church’s Missioner for Latino/Hispanic ministries will be here to help us explore opportunities for Latino/Hispanic ministry in our diocese. \nThis training is suitable for individuals as well as church teams.
URL:https://www.norcalepiscopal.org/event/new-camino-training/
LOCATION:St. John’s\, Chico\, 2341 Floral Ave\, Chico\, CA\, 95926\, United States
END:VEVENT
END:VCALENDAR