BEGIN:VCALENDAR
VERSION:2.0
PRODID:-//The Episcopal Diocese of Northern California - ECPv6.15.16.1//NONSGML v1.0//EN
CALSCALE:GREGORIAN
METHOD:PUBLISH
X-ORIGINAL-URL:https://www.norcalepiscopal.org
X-WR-CALDESC:Events for The Episcopal Diocese of Northern California
REFRESH-INTERVAL;VALUE=DURATION:PT1H
X-Robots-Tag:noindex
X-PUBLISHED-TTL:PT1H
BEGIN:VTIMEZONE
TZID:America/Los_Angeles
BEGIN:DAYLIGHT
TZOFFSETFROM:-0800
TZOFFSETTO:-0700
TZNAME:PDT
DTSTART:20230312T100000
END:DAYLIGHT
BEGIN:STANDARD
TZOFFSETFROM:-0700
TZOFFSETTO:-0800
TZNAME:PST
DTSTART:20231105T090000
END:STANDARD
BEGIN:DAYLIGHT
TZOFFSETFROM:-0800
TZOFFSETTO:-0700
TZNAME:PDT
DTSTART:20240310T100000
END:DAYLIGHT
BEGIN:STANDARD
TZOFFSETFROM:-0700
TZOFFSETTO:-0800
TZNAME:PST
DTSTART:20241103T090000
END:STANDARD
BEGIN:DAYLIGHT
TZOFFSETFROM:-0800
TZOFFSETTO:-0700
TZNAME:PDT
DTSTART:20250309T100000
END:DAYLIGHT
BEGIN:STANDARD
TZOFFSETFROM:-0700
TZOFFSETTO:-0800
TZNAME:PST
DTSTART:20251102T090000
END:STANDARD
END:VTIMEZONE
BEGIN:VEVENT
DTSTART;TZID=America/Los_Angeles:20241012T090000
DTEND;TZID=America/Los_Angeles:20241012T110000
DTSTAMP:20260419T235638
CREATED:20240104T194103Z
LAST-MODIFIED:20240104T200308Z
UID:10000573-1728723600-1728730800@www.norcalepiscopal.org
SUMMARY:Convocation (Virtual)
DESCRIPTION:
URL:https://www.norcalepiscopal.org/event/convocation/
END:VEVENT
BEGIN:VEVENT
DTSTART;TZID=America/Los_Angeles:20241012T090000
DTEND;TZID=America/Los_Angeles:20241012T110000
DTSTAMP:20260419T235638
CREATED:20250916T012906Z
LAST-MODIFIED:20250916T014351Z
UID:10000786-1728723600-1728730800@www.norcalepiscopal.org
SUMMARY:Convocation 2025
DESCRIPTION:Join us for a important preview of our 2025 Diocesan Convention! \nWhile open to all\, it is it is expected that clergy\, lay delegates\, and alternates to convention attend. Convocation will cover topics such as the diocesan budget\, nominees for Standing Committee\, Board of Trustees\, and General Convention Deputation\, resolutions\, petitions\, and information about upcoming Town Halls. \nYou don’t want to miss it! \nAgenda: \nSaturday\, October 4 \n10:00 am – Diocesan Convention Business \n11:00 am – Regional Collaboration Round-Tables (RCRs) \n12:00 pm – Lunch \n1:00 pm – Deaneries meet for any further discussion/business/training \nLocations of Deanery Convocations: \n(Click here to find your deanery) \nAlta at St. Peter’s\, Red Bluff\n(510 Jefferson St\, Red Bluff\, CA 96080) \nCapital at St. Clement’s\, Rancho Cordova\n(2376 Zinfandel Dr\, Rancho Cordova\, CA 95670) \nCentral at St. John’s\, Roseville\n(2351 Pleasant Grove Blvd\, Roseville\, CA 95747) \nSemper Virens at Christ Church\, Eureka\n(625 15th St\, Eureka\, CA 95501) \nSierra at Emmanuel\, Grass Valley\n(235 S Church St.\, Grass Valley\, CA 95945) \nRussian River at Incarnation\, Santa Rosa\n(550 Mendocino Ave\, Santa Rosa\, CA 95401) \nWingfield at Grace\, St. Helena\n(1314 Spring St\, St Helena\, CA 94574 \nPlease plan to join in-person for this important meeting. \nWhat are Regional Collaboration Round-Tables? \nOur Deanery in-person Convocation is a wonderful opportunity not only to get to know each other but also to build ministry-based relationships among our congregations. We have diverse abilities\, experiences\, and programs that we want to be able to share with each other from Christian formation to community outreach\, altar to gardens and beyond. At our in-person Convocation this October we will have some directed round-table discussion about the unique gifts and strengths each congregation brings to their deanery and where we might be able to support or collaborate with each other. These Regional Collaboration Round-Tables will generate ideas and connections\, as well as provide information we can pass on to the Office of the Bishop to strengthen our parishes. For this event we will be coordinating facilitators to make the most of our discussion\, and we look forward to our time together. – The Regional Collaboration Team
URL:https://www.norcalepiscopal.org/event/convocation-25/
END:VEVENT
END:VCALENDAR