BEGIN:VCALENDAR
VERSION:2.0
PRODID:-//The Episcopal Diocese of Northern California - ECPv6.15.16.1//NONSGML v1.0//EN
CALSCALE:GREGORIAN
METHOD:PUBLISH
X-WR-CALNAME:The Episcopal Diocese of Northern California
X-ORIGINAL-URL:https://www.norcalepiscopal.org
X-WR-CALDESC:Events for The Episcopal Diocese of Northern California
REFRESH-INTERVAL;VALUE=DURATION:PT1H
X-Robots-Tag:noindex
X-PUBLISHED-TTL:PT1H
BEGIN:VTIMEZONE
TZID:America/Los_Angeles
BEGIN:DAYLIGHT
TZOFFSETFROM:-0800
TZOFFSETTO:-0700
TZNAME:PDT
DTSTART:20230312T100000
END:DAYLIGHT
BEGIN:STANDARD
TZOFFSETFROM:-0700
TZOFFSETTO:-0800
TZNAME:PST
DTSTART:20231105T090000
END:STANDARD
BEGIN:DAYLIGHT
TZOFFSETFROM:-0800
TZOFFSETTO:-0700
TZNAME:PDT
DTSTART:20240310T100000
END:DAYLIGHT
BEGIN:STANDARD
TZOFFSETFROM:-0700
TZOFFSETTO:-0800
TZNAME:PST
DTSTART:20241103T090000
END:STANDARD
BEGIN:DAYLIGHT
TZOFFSETFROM:-0800
TZOFFSETTO:-0700
TZNAME:PDT
DTSTART:20250309T100000
END:DAYLIGHT
BEGIN:STANDARD
TZOFFSETFROM:-0700
TZOFFSETTO:-0800
TZNAME:PST
DTSTART:20251102T090000
END:STANDARD
END:VTIMEZONE
BEGIN:VEVENT
DTSTART;TZID=America/Los_Angeles:20241208T080000
DTEND;TZID=America/Los_Angeles:20241208T120000
DTSTAMP:20260424T034344
CREATED:20241115T221351Z
LAST-MODIFIED:20241115T221613Z
UID:10000654-1733644800-1733659200@www.norcalepiscopal.org
SUMMARY:Visitation: St. Luke's\, Woodland
DESCRIPTION:
URL:https://www.norcalepiscopal.org/event/visitation-st-lukes-woodland/
END:VEVENT
BEGIN:VEVENT
DTSTART;TZID=America/Los_Angeles:20241215T080000
DTEND;TZID=America/Los_Angeles:20241215T170000
DTSTAMP:20260424T034344
CREATED:20241115T221422Z
LAST-MODIFIED:20241115T221546Z
UID:10000655-1734249600-1734282000@www.norcalepiscopal.org
SUMMARY:Visitation: Emmanuel\, Grass Valley
DESCRIPTION:
URL:https://www.norcalepiscopal.org/event/visitation-emmanuel-grass-valley/
END:VEVENT
END:VCALENDAR