BEGIN:VCALENDAR
VERSION:2.0
PRODID:-//The Episcopal Diocese of Northern California - ECPv6.15.16.1//NONSGML v1.0//EN
CALSCALE:GREGORIAN
METHOD:PUBLISH
X-ORIGINAL-URL:https://www.norcalepiscopal.org
X-WR-CALDESC:Events for The Episcopal Diocese of Northern California
REFRESH-INTERVAL;VALUE=DURATION:PT1H
X-Robots-Tag:noindex
X-PUBLISHED-TTL:PT1H
BEGIN:VTIMEZONE
TZID:America/Los_Angeles
BEGIN:DAYLIGHT
TZOFFSETFROM:-0800
TZOFFSETTO:-0700
TZNAME:PDT
DTSTART:20240310T100000
END:DAYLIGHT
BEGIN:STANDARD
TZOFFSETFROM:-0700
TZOFFSETTO:-0800
TZNAME:PST
DTSTART:20241103T090000
END:STANDARD
BEGIN:DAYLIGHT
TZOFFSETFROM:-0800
TZOFFSETTO:-0700
TZNAME:PDT
DTSTART:20250309T100000
END:DAYLIGHT
BEGIN:STANDARD
TZOFFSETFROM:-0700
TZOFFSETTO:-0800
TZNAME:PST
DTSTART:20251102T090000
END:STANDARD
BEGIN:DAYLIGHT
TZOFFSETFROM:-0800
TZOFFSETTO:-0700
TZNAME:PDT
DTSTART:20260308T100000
END:DAYLIGHT
BEGIN:STANDARD
TZOFFSETFROM:-0700
TZOFFSETTO:-0800
TZNAME:PST
DTSTART:20261101T090000
END:STANDARD
END:VTIMEZONE
BEGIN:VEVENT
DTSTART;TZID=America/Los_Angeles:20250809T080000
DTEND;TZID=America/Los_Angeles:20250809T170000
DTSTAMP:20260423T190838
CREATED:20250804T201236Z
LAST-MODIFIED:20250804T201309Z
UID:10000691-1754726400-1754758800@www.norcalepiscopal.org
SUMMARY:Benicia Peddler's Fair
DESCRIPTION:Since its modest beginnings in 1963 with just a handful of antique dealers outside St. Paul’s Episcopal Church\, this volunteer-run event has grown into a massive outdoor fair featuring 300 select dealers from across the country. Spanning 11 blocks of the historic town\, the fair offers a treasure trove of items\, including period furniture\, vintage textiles\, pottery\, jewelry\, and more. Alongside the antiques\, peddlers offer everything from toys to tapestries\, and food vendors serve up treats like kettle corn\, hot dogs\, and shaved ice.
URL:https://www.norcalepiscopal.org/event/20202/
END:VEVENT
BEGIN:VEVENT
DTSTART;TZID=America/Los_Angeles:20250809T093000
DTEND;TZID=America/Los_Angeles:20250809T163000
DTSTAMP:20260423T190838
CREATED:20250804T202122Z
LAST-MODIFIED:20250818T235231Z
UID:10000694-1754731800-1754757000@www.norcalepiscopal.org
SUMMARY:I Will\, With God’s Help: Journey Toward Racial Healing and Justice Workshops
DESCRIPTION:This workshop is rooted in our baptismal identity and the promises we make in baptism. It focuses on how we can more fully live into our promise to be loving toward our neighbors\, to address racism in our communities\, and build the Beloved Community. During the workshop we follow the path of the Becoming Beloved Community labyrinth. This workshop meets the requirement for licensing for Lay Eucharistic Ministers and Lay Eucharistic Visitors in the Diocese. Other lay licensed ministries need to take Sacred Ground to meet Diocesan licensing requirements. \nAs governing leaders of their churches\, vestry and mission committee members are strongly encouraged to attend one of these workshops. All are welcome to attend this training which will help you grow as reconcilers\, healers\, and justice bearers\, to seek and serve Christ in all persons\, loving God and your neighbor. Each of these hybrid workshops will be offered in-person and via Zoom. \nSaturday\, September 6 I St. John’s Church\, Roseville I 9:30 am – 4:30 pm \nRegister here:  https://form.jotform.com/250366838104154 \nRegistration deadline:  August 29\, 2025 \nFor questions about the schedule\, please contact Miriam Casey\, edncbbc@gmail.com\, or Jo Ann Williams\, bjwilli@surewest.net.
URL:https://www.norcalepiscopal.org/event/i-will-with-gods-help-journey-toward-racial-healing-and-justice-workshops/2025-08-09/
LOCATION:St. John’s\, Roseville\, 2351 Pleasant Grove Blvd\, Roseville\, CA\, 95747\, United States
END:VEVENT
BEGIN:VEVENT
DTSTART;TZID=America/Los_Angeles:20250816T110000
DTEND;TZID=America/Los_Angeles:20250816T120000
DTSTAMP:20260423T190838
CREATED:20250804T201552Z
LAST-MODIFIED:20250808T180208Z
UID:10000692-1755342000-1755345600@www.norcalepiscopal.org
SUMMARY:Emmanuel Grass Valley Celebrates 170th year as a Parish
DESCRIPTION:To celebrate their 170th year as a parish\, Emmanual Episcopal Church will host a brunch and moderated discussion with the Rev. Dr. Timothy Naish\, newly retired canon from Canterbury Cathedral in England. \nMore info on the celebration at Emmanuel Grass Valley
URL:https://www.norcalepiscopal.org/event/emmanuel-grass-valley-celebrates-170th-year-as-a-parish/
LOCATION:Grass Valley United Methodist Church\, Address 236 S Church St\, Grass Valley\, CA\, 95945\, United States
END:VEVENT
BEGIN:VEVENT
DTSTART;TZID=America/Los_Angeles:20250817T140000
DTEND;TZID=America/Los_Angeles:20250817T160000
DTSTAMP:20260423T190838
CREATED:20250805T185348Z
LAST-MODIFIED:20250811T153508Z
UID:10000715-1755439200-1755446400@www.norcalepiscopal.org
SUMMARY:Memorial Service for Rev. Aileen Aidnik
DESCRIPTION:The Reverend Aileen Aidnik\, a former deacon in the Diocese of Northern California\, died tragically over a year ago. Many in the diocese were touched and influenced by her. Please join us for this celebration of her life. A reception will follow in the Parish Hall. The service will also be on Zoom. \nDonations in her memory can be made to Camp Grizzly\, a program for deaf children with which Aileen was involved. \nhttps://norcalcenter.org/donations/ \n  \nJoin her memorial service in person or on Zoom. \nJoin on  Zoom \nor join in person at \nSt Clement’s Episcopal Church\n2376 Zinfandel Drive\nRancho Cordova\, CA 95670 \nMore info: reach out to St. Clements Church  info@saint-clements.com or call 916 635-5282 \n 
URL:https://www.norcalepiscopal.org/event/memorial-service-for-rev-aileen-aidnik/
LOCATION:St. Clement’s\, Rancho Cordova\, 2376 Zinfandel Dr\, Rancho Cordova\, CA\, 95670\, United States
END:VEVENT
BEGIN:VEVENT
DTSTART;TZID=America/Los_Angeles:20250821T180000
DTEND;TZID=America/Los_Angeles:20250821T193000
DTSTAMP:20260423T190838
CREATED:20250805T201400Z
LAST-MODIFIED:20250811T153552Z
UID:10000716-1755799200-1755804600@www.norcalepiscopal.org
SUMMARY:Unlock Tips and Tools for your Annual Fundraising!
DESCRIPTION:Webinar with TENS: The Episcopal Network for Stewardship \nIs your annual stewardship campaign ready to launch? Are you looking for new ideas and new energy in your fall fundraising efforts? Join us for a free webinar on best practices and inspiration for your annual pledge campaign. \nBring your questions and experiences for Davey Gerhard\, Executive Director – there will be plenty of time to answer your questions. Clergy and lay stewardship leaders of the diocese are welcome!
URL:https://www.norcalepiscopal.org/event/unlock-tips-and-tools-for-your-annual-fundraising/
ATTACH;FMTTYPE=image/png:https://www.norcalepiscopal.org/wp-content/uploads/2025/08/TEns.Banner.8.21.png
END:VEVENT
END:VCALENDAR