BEGIN:VCALENDAR
VERSION:2.0
PRODID:-//The Episcopal Diocese of Northern California - ECPv6.15.16.1//NONSGML v1.0//EN
CALSCALE:GREGORIAN
METHOD:PUBLISH
X-WR-CALNAME:The Episcopal Diocese of Northern California
X-ORIGINAL-URL:https://www.norcalepiscopal.org
X-WR-CALDESC:Events for The Episcopal Diocese of Northern California
REFRESH-INTERVAL;VALUE=DURATION:PT1H
X-Robots-Tag:noindex
X-PUBLISHED-TTL:PT1H
BEGIN:VTIMEZONE
TZID:America/Los_Angeles
BEGIN:DAYLIGHT
TZOFFSETFROM:-0800
TZOFFSETTO:-0700
TZNAME:PDT
DTSTART:20240310T100000
END:DAYLIGHT
BEGIN:STANDARD
TZOFFSETFROM:-0700
TZOFFSETTO:-0800
TZNAME:PST
DTSTART:20241103T090000
END:STANDARD
BEGIN:DAYLIGHT
TZOFFSETFROM:-0800
TZOFFSETTO:-0700
TZNAME:PDT
DTSTART:20250309T100000
END:DAYLIGHT
BEGIN:STANDARD
TZOFFSETFROM:-0700
TZOFFSETTO:-0800
TZNAME:PST
DTSTART:20251102T090000
END:STANDARD
BEGIN:DAYLIGHT
TZOFFSETFROM:-0800
TZOFFSETTO:-0700
TZNAME:PDT
DTSTART:20260308T100000
END:DAYLIGHT
BEGIN:STANDARD
TZOFFSETFROM:-0700
TZOFFSETTO:-0800
TZNAME:PST
DTSTART:20261101T090000
END:STANDARD
END:VTIMEZONE
BEGIN:VEVENT
DTSTART;TZID=America/Los_Angeles:20250906T093000
DTEND;TZID=America/Los_Angeles:20250906T163000
DTSTAMP:20260425T112713
CREATED:20250804T202122Z
LAST-MODIFIED:20250818T235231Z
UID:10000696-1757151000-1757176200@www.norcalepiscopal.org
SUMMARY:I Will\, With God’s Help: Journey Toward Racial Healing and Justice Workshops
DESCRIPTION:This workshop is rooted in our baptismal identity and the promises we make in baptism. It focuses on how we can more fully live into our promise to be loving toward our neighbors\, to address racism in our communities\, and build the Beloved Community. During the workshop we follow the path of the Becoming Beloved Community labyrinth. This workshop meets the requirement for licensing for Lay Eucharistic Ministers and Lay Eucharistic Visitors in the Diocese. Other lay licensed ministries need to take Sacred Ground to meet Diocesan licensing requirements. \nAs governing leaders of their churches\, vestry and mission committee members are strongly encouraged to attend one of these workshops. All are welcome to attend this training which will help you grow as reconcilers\, healers\, and justice bearers\, to seek and serve Christ in all persons\, loving God and your neighbor. Each of these hybrid workshops will be offered in-person and via Zoom. \nSaturday\, September 6 I St. John’s Church\, Roseville I 9:30 am – 4:30 pm \nRegister here:  https://form.jotform.com/250366838104154 \nRegistration deadline:  August 29\, 2025 \nFor questions about the schedule\, please contact Miriam Casey\, edncbbc@gmail.com\, or Jo Ann Williams\, bjwilli@surewest.net.
URL:https://www.norcalepiscopal.org/event/i-will-with-gods-help-journey-toward-racial-healing-and-justice-workshops/2025-09-06/
LOCATION:St. John’s\, Roseville\, 2351 Pleasant Grove Blvd\, Roseville\, CA\, 95747\, United States
END:VEVENT
BEGIN:VEVENT
DTSTART;TZID=America/Los_Angeles:20250912T083000
DTEND;TZID=America/Los_Angeles:20250912T180000
DTSTAMP:20260425T112713
CREATED:20250805T001555Z
LAST-MODIFIED:20250826T194042Z
UID:10000699-1757665800-1757700000@www.norcalepiscopal.org
SUMMARY:Tule Lake Pilgrimage
DESCRIPTION:In 1942\, the US government removed over 125\,000 people of Japanese descent from the western US and incarcerated them without due process in concentration camps located in remote areas. One of the camps\, the Tule Lake War Relocation Center\, lies in the northeastern corner of our diocese and has unique significance among Japanese Americans as the maximum-security site used to punish those from across the western US who were deemed disloyal. However\, relatively few people are aware of its historical significance. \nOur diocese has created a multifaceted program to address this\, including a workshop in June 2025\, The Tule Lake Concentration Camp: Reflections and Lessons. The next component of this program will be a pilgrimage to the Tule Lake War Relocation/Segregation Center. Pilgrims will meet at All Saints Episcopal Church in Redding\, and board an air-conditioned 56-person charter bus for the round trip drive to the Tule Lake National Monument.all saint \nCost: $50\, includes round trip transportation in an air-conditioned charter bus from Redding\, lunch\, and snacks. Some scholarships are available to assist with hotel accommodations. \nHotel Info: \nOxford Suites\n1967 Hilltop Drive\nRedding\, CA\, 96002-0211\n(530) 221-0100\nClick HERE to book your hotel room \nRoom rates: \n\nKing rooms – $135/night\n2 Queen-Bed rooms – $145/night\n\nPlease call the hotel directly (530) 221-0100)\, give them the code “Tule Lake” and if rooms are available\, they will honor the above secured pricing! \nDeadline to register is September 1\, 2025 \nPlease contact Canon Julie Wakelee by email julie@norcalepiscopal.org
URL:https://www.norcalepiscopal.org/event/tule-lake-pilgrimage/
LOCATION:All Saints Episcopal Church\, Redding\, 2150 Benton Dr\, Redding\, CA\, 96003\, United States
ATTACH;FMTTYPE=image/jpeg:https://www.norcalepiscopal.org/wp-content/uploads/2025/08/Tulelakepilgrimage.jpg
END:VEVENT
BEGIN:VEVENT
DTSTART;TZID=America/Los_Angeles:20250915T080000
DTEND;TZID=America/Los_Angeles:20250915T170000
DTSTAMP:20260425T112713
CREATED:20250805T001913Z
LAST-MODIFIED:20250811T151856Z
UID:10000700-1757923200-1757955600@www.norcalepiscopal.org
SUMMARY:Sacred Ground Circle
DESCRIPTION:This Fall\, join fellow people of faith in exploring the issues of race\, racism\, and historical oppression and trauma in our church & society. \nSacred Ground is a film- and readings-based dialogue series on race\, grounded in faith. Based out of Trinity Cathedral\, yet open to entire diocese\, small groups are invited to walk through chapters of America’s history of race and racism\, while weaving in threads of family story\, economic class\, and political and regional identity. \nSacred Ground is part of Becoming Beloved Community\, The Episcopal Church’s long-term commitment to racial healing\, reconciliation\, and justice in our personal lives\, our ministries\, and our society. \nLearn more: Contact Susan Hotchkiss
URL:https://www.norcalepiscopal.org/event/sacred-ground-circle/2025-09-15/
LOCATION:Zoom
ATTACH;FMTTYPE=image/jpeg:https://www.norcalepiscopal.org/wp-content/uploads/2025/08/Videocircle-scaled.jpg
END:VEVENT
BEGIN:VEVENT
DTSTART;VALUE=DATE:20250921
DTEND;VALUE=DATE:20250922
DTSTAMP:20260425T112713
CREATED:20250415T233001Z
LAST-MODIFIED:20250805T182616Z
UID:10000678-1758412800-1758499199@www.norcalepiscopal.org
SUMMARY:Visitation: St. Stephen's\, Sebastopol
DESCRIPTION:
URL:https://www.norcalepiscopal.org/event/visitation-st-stephens-sebastopol/
END:VEVENT
BEGIN:VEVENT
DTSTART;TZID=America/Los_Angeles:20250922T080000
DTEND;TZID=America/Los_Angeles:20250922T170000
DTSTAMP:20260425T112713
CREATED:20250805T001913Z
LAST-MODIFIED:20250811T151856Z
UID:10000701-1758528000-1758560400@www.norcalepiscopal.org
SUMMARY:Sacred Ground Circle
DESCRIPTION:This Fall\, join fellow people of faith in exploring the issues of race\, racism\, and historical oppression and trauma in our church & society. \nSacred Ground is a film- and readings-based dialogue series on race\, grounded in faith. Based out of Trinity Cathedral\, yet open to entire diocese\, small groups are invited to walk through chapters of America’s history of race and racism\, while weaving in threads of family story\, economic class\, and political and regional identity. \nSacred Ground is part of Becoming Beloved Community\, The Episcopal Church’s long-term commitment to racial healing\, reconciliation\, and justice in our personal lives\, our ministries\, and our society. \nLearn more: Contact Susan Hotchkiss
URL:https://www.norcalepiscopal.org/event/sacred-ground-circle/2025-09-22/
LOCATION:Zoom
ATTACH;FMTTYPE=image/jpeg:https://www.norcalepiscopal.org/wp-content/uploads/2025/08/Videocircle-scaled.jpg
END:VEVENT
BEGIN:VEVENT
DTSTART;TZID=America/Los_Angeles:20250924T120000
DTEND;TZID=America/Los_Angeles:20250924T130000
DTSTAMP:20260425T112713
CREATED:20250916T015050Z
LAST-MODIFIED:20250916T020221Z
UID:10000787-1758715200-1758718800@www.norcalepiscopal.org
SUMMARY:Invite Welcome Connect Introduction Webinar
DESCRIPTION:Invite Welcome Connect is a ministry that has helped congregations across The Episcopal Church grow in faithful invitation\, genuine hospitality\, and deep connection. \nClergy and lay people alike will gain insight into making their churches true beacons for evangelism\, hospitality\, and belonging in their communities. \nPerfect for anyone seeking fresh energy for welcoming and connecting in their parish. \nJoin the webinar to learn more about how to implement this in your church.
URL:https://www.norcalepiscopal.org/event/invite-welcome-connect-intro-webinar/
ATTACH;FMTTYPE=image/jpeg:https://www.norcalepiscopal.org/wp-content/uploads/2025/09/iwc-1.jpeg
END:VEVENT
BEGIN:VEVENT
DTSTART;TZID=America/Los_Angeles:20250925T170000
DTEND;TZID=America/Los_Angeles:20250925T180000
DTSTAMP:20260425T112713
CREATED:20250916T032211Z
LAST-MODIFIED:20250916T040204Z
UID:10000788-1758819600-1758823200@www.norcalepiscopal.org
SUMMARY:A Pilgrimage of Hope for Creation
DESCRIPTION:Celebrate the Season of Creation with St. Francis of Assisi Catholic Church. \nJoin us for a “Capitol Walk for Care for Creation” on Thursday\, September 25th from 5:00 to 6:00 pm at Capitol Park on the grounds of the State Capitol. \nWe’ll gather at the World Peace Rose Garden at 15th Street and Capitol Avenue. We’ll walk\, pray\, and reflect at six sites around Capitol Park\, including the Memorial and Camellia Groves and the Native Garden. \nFor more information on the upcoming Capitol Walk\, contact St. Francis of Assisi’s Pathways for Justice ministry at: pathwaysforjustice@stfrancisparish.com \n  \n 
URL:https://www.norcalepiscopal.org/event/st-francia-assisi-walk/
LOCATION:World Peace Rose Garden at 15th Street and Capitol Avenue\, 1317 15th Street\, Sacramento\, CA\, 95814\, United States
ATTACH;FMTTYPE=image/png:https://www.norcalepiscopal.org/wp-content/uploads/2025/09/pilgrimageofhope.png
END:VEVENT
BEGIN:VEVENT
DTSTART;VALUE=DATE:20250928
DTEND;VALUE=DATE:20250929
DTSTAMP:20260425T112713
CREATED:20250415T233055Z
LAST-MODIFIED:20250415T233115Z
UID:10000679-1759017600-1759103999@www.norcalepiscopal.org
SUMMARY:Visitation: Faith\, Cameron Park
DESCRIPTION:
URL:https://www.norcalepiscopal.org/event/visitation-faith-cameron-park/
END:VEVENT
BEGIN:VEVENT
DTSTART;TZID=America/Los_Angeles:20250929T080000
DTEND;TZID=America/Los_Angeles:20250929T170000
DTSTAMP:20260425T112713
CREATED:20250805T001913Z
LAST-MODIFIED:20250811T151856Z
UID:10000702-1759132800-1759165200@www.norcalepiscopal.org
SUMMARY:Sacred Ground Circle
DESCRIPTION:This Fall\, join fellow people of faith in exploring the issues of race\, racism\, and historical oppression and trauma in our church & society. \nSacred Ground is a film- and readings-based dialogue series on race\, grounded in faith. Based out of Trinity Cathedral\, yet open to entire diocese\, small groups are invited to walk through chapters of America’s history of race and racism\, while weaving in threads of family story\, economic class\, and political and regional identity. \nSacred Ground is part of Becoming Beloved Community\, The Episcopal Church’s long-term commitment to racial healing\, reconciliation\, and justice in our personal lives\, our ministries\, and our society. \nLearn more: Contact Susan Hotchkiss
URL:https://www.norcalepiscopal.org/event/sacred-ground-circle/2025-09-29/
LOCATION:Zoom
ATTACH;FMTTYPE=image/jpeg:https://www.norcalepiscopal.org/wp-content/uploads/2025/08/Videocircle-scaled.jpg
END:VEVENT
END:VCALENDAR