BEGIN:VCALENDAR
VERSION:2.0
PRODID:-//The Episcopal Diocese of Northern California - ECPv6.15.16.1//NONSGML v1.0//EN
CALSCALE:GREGORIAN
METHOD:PUBLISH
X-WR-CALNAME:The Episcopal Diocese of Northern California
X-ORIGINAL-URL:https://www.norcalepiscopal.org
X-WR-CALDESC:Events for The Episcopal Diocese of Northern California
REFRESH-INTERVAL;VALUE=DURATION:PT1H
X-Robots-Tag:noindex
X-PUBLISHED-TTL:PT1H
BEGIN:VTIMEZONE
TZID:America/Los_Angeles
BEGIN:DAYLIGHT
TZOFFSETFROM:-0800
TZOFFSETTO:-0700
TZNAME:PDT
DTSTART:20210314T100000
END:DAYLIGHT
BEGIN:STANDARD
TZOFFSETFROM:-0700
TZOFFSETTO:-0800
TZNAME:PST
DTSTART:20211107T090000
END:STANDARD
BEGIN:DAYLIGHT
TZOFFSETFROM:-0800
TZOFFSETTO:-0700
TZNAME:PDT
DTSTART:20220313T100000
END:DAYLIGHT
BEGIN:STANDARD
TZOFFSETFROM:-0700
TZOFFSETTO:-0800
TZNAME:PST
DTSTART:20221106T090000
END:STANDARD
BEGIN:DAYLIGHT
TZOFFSETFROM:-0800
TZOFFSETTO:-0700
TZNAME:PDT
DTSTART:20230312T100000
END:DAYLIGHT
BEGIN:STANDARD
TZOFFSETFROM:-0700
TZOFFSETTO:-0800
TZNAME:PST
DTSTART:20231105T090000
END:STANDARD
BEGIN:DAYLIGHT
TZOFFSETFROM:-0800
TZOFFSETTO:-0700
TZNAME:PDT
DTSTART:20240310T100000
END:DAYLIGHT
BEGIN:STANDARD
TZOFFSETFROM:-0700
TZOFFSETTO:-0800
TZNAME:PST
DTSTART:20241103T090000
END:STANDARD
END:VTIMEZONE
BEGIN:VEVENT
DTSTART;VALUE=DATE:20230611
DTEND;VALUE=DATE:20230612
DTSTAMP:20260420T063802
CREATED:20221129T231141Z
LAST-MODIFIED:20221129T231141Z
UID:10000441-1686441600-1686527999@www.norcalepiscopal.org
SUMMARY:Bishop Megan's visitation at All Saints\, Sacramento
DESCRIPTION:
URL:https://www.norcalepiscopal.org/event/bishop-megans-visitation-at-all-saints-sacramento/
LOCATION:All Saints\, Sacramento\, 2076 Sutterville Rd\, Sacramento\, CA\, 95822
END:VEVENT
BEGIN:VEVENT
DTSTART;TZID=America/Los_Angeles:20220331T160000
DTEND;TZID=America/Los_Angeles:20220331T170000
DTSTAMP:20260420T063802
CREATED:20220323T201342Z
LAST-MODIFIED:20220323T201835Z
UID:10000384-1648742400-1648746000@www.norcalepiscopal.org
SUMMARY:Brian Sellers-Petersen Visitation at All Saints\, Sacramento
DESCRIPTION:In preparation for the Growing Conference; Brian Sellers-Petersen\, author of Harvesting Abundance and the consultant to the Presiding Bishop’s Good News Gardens initiative\, will be visiting community gardens around our diocese! The Growing: Faith\, Food\, Community conference will be hosted by St. Martin’s\, Davis on April 2.
URL:https://www.norcalepiscopal.org/event/brian-sellers-petersen-visitation-at-all-saints-sacramento/
LOCATION:All Saints\, Sacramento\, 2076 Sutterville Rd\, Sacramento\, CA\, 95822
END:VEVENT
END:VCALENDAR