BEGIN:VCALENDAR
VERSION:2.0
PRODID:-//The Episcopal Diocese of Northern California - ECPv6.15.16.1//NONSGML v1.0//EN
CALSCALE:GREGORIAN
METHOD:PUBLISH
X-ORIGINAL-URL:https://www.norcalepiscopal.org
X-WR-CALDESC:Events for The Episcopal Diocese of Northern California
REFRESH-INTERVAL;VALUE=DURATION:PT1H
X-Robots-Tag:noindex
X-PUBLISHED-TTL:PT1H
BEGIN:VTIMEZONE
TZID:America/Detroit
BEGIN:DAYLIGHT
TZOFFSETFROM:-0500
TZOFFSETTO:-0400
TZNAME:EDT
DTSTART:20200308T070000
END:DAYLIGHT
BEGIN:STANDARD
TZOFFSETFROM:-0400
TZOFFSETTO:-0500
TZNAME:EST
DTSTART:20201101T060000
END:STANDARD
BEGIN:DAYLIGHT
TZOFFSETFROM:-0500
TZOFFSETTO:-0400
TZNAME:EDT
DTSTART:20210314T070000
END:DAYLIGHT
BEGIN:STANDARD
TZOFFSETFROM:-0400
TZOFFSETTO:-0500
TZNAME:EST
DTSTART:20211107T060000
END:STANDARD
BEGIN:DAYLIGHT
TZOFFSETFROM:-0500
TZOFFSETTO:-0400
TZNAME:EDT
DTSTART:20220313T070000
END:DAYLIGHT
BEGIN:STANDARD
TZOFFSETFROM:-0400
TZOFFSETTO:-0500
TZNAME:EST
DTSTART:20221106T060000
END:STANDARD
END:VTIMEZONE
BEGIN:VEVENT
DTSTART;TZID=America/Detroit:20211218T100000
DTEND;TZID=America/Detroit:20211218T133000
DTSTAMP:20260420T230044
CREATED:20210522T002635Z
LAST-MODIFIED:20210522T004037Z
UID:10000241-1639821600-1639834200@www.norcalepiscopal.org
SUMMARY:River City Food Bank Open
DESCRIPTION:
URL:https://www.norcalepiscopal.org/event/river-city-food-bank-open/2021-12-18/
LOCATION:River City Food Bank\, 2300 Edison Ave.\, Sacramento\, CA\, 95821
END:VEVENT
BEGIN:VEVENT
DTSTART;TZID=America/Detroit:20211126T103000
DTEND;TZID=America/Detroit:20211126T133000
DTSTAMP:20260420T230044
CREATED:20210522T003433Z
LAST-MODIFIED:20210522T003807Z
UID:10000249-1637922600-1637933400@www.norcalepiscopal.org
SUMMARY:River City Food Bank Open
DESCRIPTION:
URL:https://www.norcalepiscopal.org/event/bishops-visitation/2021-11-26/
LOCATION:River City Food Bank\, 2300 Edison Ave.\, Sacramento\, CA\, 95821
END:VEVENT
END:VCALENDAR